BEGIN:VCALENDAR
VERSION:2.0
PRODID:-//CPARC - ECPv6.15.20//NONSGML v1.0//EN
CALSCALE:GREGORIAN
METHOD:PUBLISH
X-WR-CALNAME:CPARC
X-ORIGINAL-URL:https://cparc.net
X-WR-CALDESC:Events for CPARC
REFRESH-INTERVAL;VALUE=DURATION:PT1H
X-Robots-Tag:noindex
X-PUBLISHED-TTL:PT1H
BEGIN:VTIMEZONE
TZID:America/Chicago
BEGIN:DAYLIGHT
TZOFFSETFROM:-0600
TZOFFSETTO:-0500
TZNAME:CDT
DTSTART:20250309T080000
END:DAYLIGHT
BEGIN:STANDARD
TZOFFSETFROM:-0500
TZOFFSETTO:-0600
TZNAME:CST
DTSTART:20251102T070000
END:STANDARD
BEGIN:DAYLIGHT
TZOFFSETFROM:-0600
TZOFFSETTO:-0500
TZNAME:CDT
DTSTART:20260308T080000
END:DAYLIGHT
BEGIN:STANDARD
TZOFFSETFROM:-0500
TZOFFSETTO:-0600
TZNAME:CST
DTSTART:20261101T070000
END:STANDARD
BEGIN:DAYLIGHT
TZOFFSETFROM:-0600
TZOFFSETTO:-0500
TZNAME:CDT
DTSTART:20270314T080000
END:DAYLIGHT
BEGIN:STANDARD
TZOFFSETFROM:-0500
TZOFFSETTO:-0600
TZNAME:CST
DTSTART:20271107T070000
END:STANDARD
END:VTIMEZONE
BEGIN:VEVENT
DTSTART;TZID=America/Chicago:20260430T080000
DTEND;TZID=America/Chicago:20260430T093000
DTSTAMP:20260423T065105
CREATED:20250919T153357Z
LAST-MODIFIED:20260326T210607Z
UID:1365-1777536000-1777541400@cparc.net
SUMMARY:Breakfast Get-Togethers April 30\, 2026
DESCRIPTION:
URL:https://cparc.net/event/breakfast-get-togethers-october-30-2025/
LOCATION:Country Kitchen on Main\, 330 N. Main St.\, Crossville\, TN.\, 38555\, United States
END:VEVENT
BEGIN:VEVENT
DTSTART;TZID=America/Chicago:20260512T190000
DTEND;TZID=America/Chicago:20260512T203000
DTSTAMP:20260423T065105
CREATED:20250713T132807Z
LAST-MODIFIED:20260423T004156Z
UID:1079-1778612400-1778617800@cparc.net
SUMMARY:CPARC Monthly Meeting May 12\, 2026
DESCRIPTION:
URL:https://cparc.net/event/cparc-monthly-meeting/
LOCATION:Fair Park Senior Center\, 1833 Livingston Road\, Crossville\, TN\, 38571\, United States
END:VEVENT
BEGIN:VEVENT
DTSTART;TZID=America/Chicago:20260521T080000
DTEND;TZID=America/Chicago:20260521T093000
DTSTAMP:20260423T065105
CREATED:20250713T193913Z
LAST-MODIFIED:20260423T004409Z
UID:1087-1779350400-1779355800@cparc.net
SUMMARY:Breakfast Get-Togethers May 21\, 2026
DESCRIPTION:
URL:https://cparc.net/event/breakfast-get-togethers-2/
LOCATION:Country Kitchen on Main\, 330 N. Main St.\, Crossville\, TN.\, 38555\, United States
END:VEVENT
END:VCALENDAR